BEGIN:VCALENDAR
METHOD:PUBLISH
VERSION:2.0
PRODID:-//NW Council//Meetings//EN
BEGIN:VEVENT
SUMMARY:2021-2022 Anadromous Fish Habitat and Hatchery Review: Proposal Form Workshop 2 of 2
DESCRIPTION: Within a week of the meeting, you should be able to view the agenda and how to participate. https://www.nwcouncil.org/meeting/2021-anadromous-fish-workshop-feb-25
X-ALT-DESC: Within a week of the meeting, you should be able to view the agenda and how to participate. <a href="https://www.nwcouncil.org/meeting/2021-anadromous-fish-workshop-feb-25">https://www.nwcouncil.org/meeting/2021-anadromous-fish-workshop-feb-25</a>
DTSTART:20210225T210000Z
DTEND:20210226T000000Z
LOCATION:Webinar
ORGANIZER:NW Council
DTSTAMP:20260422T160100.612569Z
UID:meeting-786
STATUS:CONFIRMED
END:VEVENT
END:VCALENDAR