BEGIN:VCALENDAR
METHOD:PUBLISH
VERSION:2.0
PRODID:-//NW Council//Meetings//EN
BEGIN:VEVENT
SUMMARY:Columbia River Toxics Mapping Meeting
DESCRIPTION: Within a week of the meeting, you should be able to view the agenda and how to participate. https://www.nwcouncil.org/meeting/columbia-river-toxics-mapping-meeting-march-8-2017
X-ALT-DESC: Within a week of the meeting, you should be able to view the agenda and how to participate. <a href="https://www.nwcouncil.org/meeting/columbia-river-toxics-mapping-meeting-march-8-2017">https://www.nwcouncil.org/meeting/columbia-river-toxics-mapping-meeting-march-8-2017</a>
DTSTART;VALUE=DATE:20170308
DTEND;VALUE=DATE:20170308
LOCATION:851 SW Sixth Ave., Suite 1100, Portland,  OR
ORGANIZER:NW Council
DTSTAMP:20260422T012251.562735Z
UID:meeting-22
STATUS:CONFIRMED
END:VEVENT
END:VCALENDAR