BEGIN:VCALENDAR
METHOD:PUBLISH
VERSION:2.0
PRODID:-//NW Council//Meetings//EN
BEGIN:VEVENT
SUMMARY:Conservation Resources Advisory Committee Meeting
DESCRIPTION: Within a week of the meeting, you should be able to view the agenda and how to participate. https://www.nwcouncil.org/meeting/conservation-advisory-committee-meeting-september-7-2017
X-ALT-DESC: Within a week of the meeting, you should be able to view the agenda and how to participate. <a href="https://www.nwcouncil.org/meeting/conservation-advisory-committee-meeting-september-7-2017">https://www.nwcouncil.org/meeting/conservation-advisory-committee-meeting-september-7-2017</a>
DTSTART;VALUE=DATE:20170907
DTEND;VALUE=DATE:20170907
LOCATION:Webinar
ORGANIZER:NW Council
DTSTAMP:20260422T014034.959303Z
UID:meeting-6
STATUS:CONFIRMED
END:VEVENT
END:VCALENDAR