BEGIN:VCALENDAR
METHOD:PUBLISH
VERSION:2.0
PRODID:-//NW Council//Meetings//EN
BEGIN:VEVENT
SUMMARY:Conservation Resources Advisory Committee
DESCRIPTION: Within a week of the meeting, you should be able to view the agenda and how to participate. https://www.nwcouncil.org/meeting/conservation-resources-advisory-committee-2026-01-28
X-ALT-DESC: Within a week of the meeting, you should be able to view the agenda and how to participate. <a href="https://www.nwcouncil.org/meeting/conservation-resources-advisory-committee-2026-01-28">https://www.nwcouncil.org/meeting/conservation-resources-advisory-committee-2026-01-28</a>
DTSTART:20260128T170000Z
DTEND:20260128T200000Z
LOCATION:Webinar
ORGANIZER:NW Council
DTSTAMP:20260419T225724.409088Z
UID:meeting-1889
STATUS:CONFIRMED
END:VEVENT
END:VCALENDAR