BEGIN:VCALENDAR
METHOD:PUBLISH
VERSION:2.0
PRODID:-//NW Council//Meetings//EN
BEGIN:VEVENT
SUMMARY:Conservation Resources Advisory Committee
DESCRIPTION: Within a week of the meeting, you should be able to view the agenda and how to participate. https://www.nwcouncil.org/meeting/conservation-resources-advisory-committee-2026-03-24
X-ALT-DESC: Within a week of the meeting, you should be able to view the agenda and how to participate. <a href="https://www.nwcouncil.org/meeting/conservation-resources-advisory-committee-2026-03-24">https://www.nwcouncil.org/meeting/conservation-resources-advisory-committee-2026-03-24</a>
DTSTART:20260324T173000Z
DTEND:20260324T190000Z
LOCATION:Webinar
ORGANIZER:NW Council
DTSTAMP:20260424T202905.115404Z
UID:meeting-1914
STATUS:CONFIRMED
END:VEVENT
END:VCALENDAR