BEGIN:VCALENDAR
METHOD:PUBLISH
VERSION:2.0
PRODID:-//NW Council//Meetings//EN
BEGIN:VEVENT
SUMMARY:Conservation Resources Advisory Committee
DESCRIPTION: Within a week of the meeting, you should be able to view the agenda and how to participate. https://www.nwcouncil.org/meeting/conservation-resources-advisory-committee-december-4-2019
X-ALT-DESC: Within a week of the meeting, you should be able to view the agenda and how to participate. <a href="https://www.nwcouncil.org/meeting/conservation-resources-advisory-committee-december-4-2019">https://www.nwcouncil.org/meeting/conservation-resources-advisory-committee-december-4-2019</a>
DTSTART:20191204T170000Z
DTEND:20191204T223000Z
LOCATION:Webinar
ORGANIZER:NW Council
DTSTAMP:20260422T012001.183694Z
UID:meeting-658
STATUS:CONFIRMED
END:VEVENT
END:VCALENDAR