BEGIN:VCALENDAR
METHOD:PUBLISH
VERSION:2.0
PRODID:-//NW Council//Meetings//EN
BEGIN:VEVENT
SUMMARY:Conservation Resources Advisory Committee
DESCRIPTION: Within a week of the meeting, you should be able to view the agenda and how to participate. https://www.nwcouncil.org/meeting/conservation-resources-advisory-committee-january-21-2003
X-ALT-DESC: Within a week of the meeting, you should be able to view the agenda and how to participate. <a href="https://www.nwcouncil.org/meeting/conservation-resources-advisory-committee-january-21-2003">https://www.nwcouncil.org/meeting/conservation-resources-advisory-committee-january-21-2003</a>
DTSTART;VALUE=DATE:20030121
DTEND;VALUE=DATE:20030121
LOCATION:Northwest Power Planning Council 851 SW 6th, Suite 1100, Portland
ORGANIZER:NW Council
DTSTAMP:20260422T012123.648801Z
UID:meeting-258
STATUS:CONFIRMED
END:VEVENT
END:VCALENDAR