BEGIN:VCALENDAR
METHOD:PUBLISH
VERSION:2.0
PRODID:-//NW Council//Meetings//EN
BEGIN:VEVENT
SUMMARY:Conservation Resources Advisory Committee Meeting
DESCRIPTION: Within a week of the meeting, you should be able to view the agenda and how to participate. https://www.nwcouncil.org/meeting/conservation-resources-advisory-committee-meeting-june-4-2014
X-ALT-DESC: Within a week of the meeting, you should be able to view the agenda and how to participate. <a href="https://www.nwcouncil.org/meeting/conservation-resources-advisory-committee-meeting-june-4-2014">https://www.nwcouncil.org/meeting/conservation-resources-advisory-committee-meeting-june-4-2014</a>
DTSTART;VALUE=DATE:20140604
DTEND;VALUE=DATE:20140604
LOCATION:851 SW Sixth Avenue, Suite 1100, Portland
ORGANIZER:NW Council
DTSTAMP:20260422T012258.104538Z
UID:meeting-270
STATUS:CONFIRMED
END:VEVENT
END:VCALENDAR