BEGIN:VCALENDAR
METHOD:PUBLISH
VERSION:2.0
PRODID:-//NW Council//Meetings//EN
BEGIN:VEVENT
SUMMARY:Council Meeting
DESCRIPTION: Within a week of the meeting, you should be able to view the agenda and how to participate. https://www.nwcouncil.org/meeting/council-meeting-2026-08-11
X-ALT-DESC: Within a week of the meeting, you should be able to view the agenda and how to participate. <a href="https://www.nwcouncil.org/meeting/council-meeting-2026-08-11">https://www.nwcouncil.org/meeting/council-meeting-2026-08-11</a>
DTSTART;VALUE=DATE:20260811
DTEND;VALUE=DATE:20260813
LOCATION:Hyatt Regency Seattle, Seattle, WA
ORGANIZER:NW Council
DTSTAMP:20260420T213907.246039Z
UID:meeting-1865
STATUS:CONFIRMED
END:VEVENT
END:VCALENDAR