BEGIN:VCALENDAR
METHOD:PUBLISH
VERSION:2.0
PRODID:-//NW Council//Meetings//EN
BEGIN:VEVENT
SUMMARY:Council Meeting and Work Session
DESCRIPTION: Within a week of the meeting, you should be able to view the agenda and how to participate. https://www.nwcouncil.org/meeting/council-meeting-and-work-session-2026-04-28
X-ALT-DESC: Within a week of the meeting, you should be able to view the agenda and how to participate. <a href="https://www.nwcouncil.org/meeting/council-meeting-and-work-session-2026-04-28">https://www.nwcouncil.org/meeting/council-meeting-and-work-session-2026-04-28</a>
DTSTART:20260428T150000Z
DTEND:20260429T233000Z
LOCATION:Webinar
ORGANIZER:NW Council
DTSTAMP:20260421T134419.508611Z
UID:meeting-1923
STATUS:CONFIRMED
END:VEVENT
END:VCALENDAR