BEGIN:VCALENDAR
METHOD:PUBLISH
VERSION:2.0
PRODID:-//NW Council//Meetings//EN
BEGIN:VEVENT
SUMMARY:Council Meeting and Work Sessions
DESCRIPTION: Within a week of the meeting, you should be able to view the agenda and how to participate. https://www.nwcouncil.org/meeting/council-meeting-and-work-sessions-2026-05-27
X-ALT-DESC: Within a week of the meeting, you should be able to view the agenda and how to participate. <a href="https://www.nwcouncil.org/meeting/council-meeting-and-work-sessions-2026-05-27">https://www.nwcouncil.org/meeting/council-meeting-and-work-sessions-2026-05-27</a>
DTSTART;VALUE=DATE:20260527
DTEND;VALUE=DATE:20260530
LOCATION:Webinar
ORGANIZER:NW Council
DTSTAMP:20260422T162301.040975Z
UID:meeting-1924
STATUS:CONFIRMED
END:VEVENT
END:VCALENDAR