BEGIN:VCALENDAR
METHOD:PUBLISH
VERSION:2.0
PRODID:-//NW Council//Meetings//EN
BEGIN:VEVENT
SUMMARY:Council Meeting
DESCRIPTION: Within a week of the meeting, you should be able to view the agenda and how to participate. https://www.nwcouncil.org/meeting/council-meeting-may-4-2021
X-ALT-DESC: Within a week of the meeting, you should be able to view the agenda and how to participate. <a href="https://www.nwcouncil.org/meeting/council-meeting-may-4-2021">https://www.nwcouncil.org/meeting/council-meeting-may-4-2021</a>
DTSTART;VALUE=DATE:20210503
DTEND;VALUE=DATE:20210505
LOCATION:Webinar
ORGANIZER:NW Council
DTSTAMP:20260421T013842.374245Z
UID:meeting-756
STATUS:CONFIRMED
END:VEVENT
END:VCALENDAR