BEGIN:VCALENDAR
METHOD:PUBLISH
VERSION:2.0
PRODID:-//NW Council//Meetings//EN
BEGIN:VEVENT
SUMMARY:Council Meeting Webinar to Discuss the Draft 2021 Power Plan and Decision to Release for Public Review and Comment
DESCRIPTION: Within a week of the meeting, you should be able to view the agenda and how to participate. https://www.nwcouncil.org/meeting/council-meeting-webinar-august-23-2021
X-ALT-DESC: Within a week of the meeting, you should be able to view the agenda and how to participate. <a href="https://www.nwcouncil.org/meeting/council-meeting-webinar-august-23-2021">https://www.nwcouncil.org/meeting/council-meeting-webinar-august-23-2021</a>
DTSTART:20210823T200000Z
DTEND:20210823T213000Z
LOCATION:Webinar
ORGANIZER:NW Council
DTSTAMP:20260422T121813.463575Z
UID:meeting-810
STATUS:CONFIRMED
END:VEVENT
END:VCALENDAR