BEGIN:VCALENDAR
METHOD:PUBLISH
VERSION:2.0
PRODID:-//NW Council//Meetings//EN
BEGIN:VEVENT
SUMMARY:Demand Forecast Advisory Committee
DESCRIPTION: Within a week of the meeting, you should be able to view the agenda and how to participate. https://www.nwcouncil.org/meeting/demand-forecast-advisory-committee-november-7-2014
X-ALT-DESC: Within a week of the meeting, you should be able to view the agenda and how to participate. <a href="https://www.nwcouncil.org/meeting/demand-forecast-advisory-committee-november-7-2014">https://www.nwcouncil.org/meeting/demand-forecast-advisory-committee-november-7-2014</a>
DTSTART;VALUE=DATE:20141107
DTEND;VALUE=DATE:20141107
LOCATION:Webinar
ORGANIZER:NW Council
DTSTAMP:20260419T133817.239696Z
UID:meeting-220
STATUS:CONFIRMED
END:VEVENT
END:VCALENDAR