BEGIN:VCALENDAR
METHOD:PUBLISH
VERSION:2.0
PRODID:-//NW Council//Meetings//EN
BEGIN:VEVENT
SUMMARY:Fuels Advisory Committee
DESCRIPTION: Within a week of the meeting, you should be able to view the agenda and how to participate. https://www.nwcouncil.org/meeting/fuels-advisory-committee-2025-01-27
X-ALT-DESC: Within a week of the meeting, you should be able to view the agenda and how to participate. <a href="https://www.nwcouncil.org/meeting/fuels-advisory-committee-2025-01-27">https://www.nwcouncil.org/meeting/fuels-advisory-committee-2025-01-27</a>
DTSTART:20250127T210000Z
DTEND:20250127T230000Z
LOCATION:Webinar
ORGANIZER:NW Council
DTSTAMP:20260422T012146.055882Z
UID:meeting-1810
STATUS:CONFIRMED
END:VEVENT
END:VCALENDAR