BEGIN:VCALENDAR
METHOD:PUBLISH
VERSION:2.0
PRODID:-//NW Council//Meetings//EN
BEGIN:VEVENT
SUMMARY:Generating Resource Advisory Committee
DESCRIPTION: Within a week of the meeting, you should be able to view the agenda and how to participate. https://www.nwcouncil.org/meeting/generating-resource-advisory-committee-january-7-2020
X-ALT-DESC: Within a week of the meeting, you should be able to view the agenda and how to participate. <a href="https://www.nwcouncil.org/meeting/generating-resource-advisory-committee-january-7-2020">https://www.nwcouncil.org/meeting/generating-resource-advisory-committee-january-7-2020</a>
DTSTART:20200107T173000Z
DTEND:20200107T200000Z
LOCATION:Webinar
ORGANIZER:NW Council
DTSTAMP:20260422T011924.569446Z
UID:meeting-652
STATUS:CONFIRMED
END:VEVENT
END:VCALENDAR