BEGIN:VCALENDAR
METHOD:PUBLISH
VERSION:2.0
PRODID:-//NW Council//Meetings//EN
BEGIN:VEVENT
SUMMARY:Generating Resources Advisory Committee
DESCRIPTION: Within a week of the meeting, you should be able to view the agenda and how to participate. https://www.nwcouncil.org/meeting/generating-resources-advisory-committee-june-20-2013
X-ALT-DESC: Within a week of the meeting, you should be able to view the agenda and how to participate. <a href="https://www.nwcouncil.org/meeting/generating-resources-advisory-committee-june-20-2013">https://www.nwcouncil.org/meeting/generating-resources-advisory-committee-june-20-2013</a>
DTSTART;VALUE=DATE:20130620
DTEND;VALUE=DATE:20130620
LOCATION:851 SW Sixth Ave., Suite 1100, Portland
ORGANIZER:NW Council
DTSTAMP:20260422T011828.339225Z
UID:meeting-387
STATUS:CONFIRMED
END:VEVENT
END:VCALENDAR