BEGIN:VCALENDAR
METHOD:PUBLISH
VERSION:2.0
PRODID:-//NW Council//Meetings//EN
BEGIN:VEVENT
SUMMARY:Generating Resources Advisory Committee
DESCRIPTION: Within a week of the meeting, you should be able to view the agenda and how to participate. https://www.nwcouncil.org/meeting/generating-resources-advisory-committee-october-29-2019-0
X-ALT-DESC: Within a week of the meeting, you should be able to view the agenda and how to participate. <a href="https://www.nwcouncil.org/meeting/generating-resources-advisory-committee-october-29-2019-0">https://www.nwcouncil.org/meeting/generating-resources-advisory-committee-october-29-2019-0</a>
DTSTART:20191029T163000Z
DTEND:20191029T220000Z
LOCATION:Council Central Offices, Portland
ORGANIZER:NW Council
DTSTAMP:20260422T011947.955603Z
UID:meeting-668
STATUS:CONFIRMED
END:VEVENT
END:VCALENDAR