BEGIN:VCALENDAR
METHOD:PUBLISH
VERSION:2.0
PRODID:-//NW Council//Meetings//EN
BEGIN:VEVENT
SUMMARY:Generation Resources Advisory Committee Meeting
DESCRIPTION: Within a week of the meeting, you should be able to view the agenda and how to participate. https://www.nwcouncil.org/meeting/generation-resources-advisory-committee-meeting-march-16-2017
X-ALT-DESC: Within a week of the meeting, you should be able to view the agenda and how to participate. <a href="https://www.nwcouncil.org/meeting/generation-resources-advisory-committee-meeting-march-16-2017">https://www.nwcouncil.org/meeting/generation-resources-advisory-committee-meeting-march-16-2017</a>
DTSTART;VALUE=DATE:20170316
DTEND;VALUE=DATE:20170316
LOCATION:Council Central Offices 851 SW 6th Ave, Suite 1100, Portland
ORGANIZER:NW Council
DTSTAMP:20260422T014005.486160Z
UID:meeting-24
STATUS:CONFIRMED
END:VEVENT
END:VCALENDAR