BEGIN:VCALENDAR
METHOD:PUBLISH
VERSION:2.0
PRODID:-//NW Council//Meetings//EN
BEGIN:VEVENT
SUMMARY:GRAC Hydropower Potential Scoping Study Results Webinar
DESCRIPTION: Within a week of the meeting, you should be able to view the agenda and how to participate. https://www.nwcouncil.org/meeting/grac-hydropower-potential-scoping-study-results-webinar-november-19-2014
X-ALT-DESC: Within a week of the meeting, you should be able to view the agenda and how to participate. <a href="https://www.nwcouncil.org/meeting/grac-hydropower-potential-scoping-study-results-webinar-november-19-2014">https://www.nwcouncil.org/meeting/grac-hydropower-potential-scoping-study-results-webinar-november-19-2014</a>
DTSTART;VALUE=DATE:20141119
DTEND;VALUE=DATE:20141119
LOCATION:851 S.W. Sixth Avenue Suite 1100, Portland
ORGANIZER:NW Council
DTSTAMP:20260422T023958.402326Z
UID:meeting-224
STATUS:CONFIRMED
END:VEVENT
END:VCALENDAR