BEGIN:VCALENDAR
METHOD:PUBLISH
VERSION:2.0
PRODID:-//NW Council//Meetings//EN
BEGIN:VEVENT
SUMMARY:Informal Hatchery Workgroup Meeting
DESCRIPTION: Within a week of the meeting, you should be able to view the agenda and how to participate. https://www.nwcouncil.org/meeting/informal-hatchery-workgroup-meeting-september-10-2020
X-ALT-DESC: Within a week of the meeting, you should be able to view the agenda and how to participate. <a href="https://www.nwcouncil.org/meeting/informal-hatchery-workgroup-meeting-september-10-2020">https://www.nwcouncil.org/meeting/informal-hatchery-workgroup-meeting-september-10-2020</a>
DTSTART:20200910T170000Z
DTEND:20200910T180000Z
LOCATION:Virtual Meeting
ORGANIZER:NW Council
DTSTAMP:20260423T184043.184925Z
UID:meeting-738
STATUS:CONFIRMED
END:VEVENT
END:VCALENDAR