BEGIN:VCALENDAR
METHOD:PUBLISH
VERSION:2.0
PRODID:-//NW Council//Meetings//EN
BEGIN:VEVENT
SUMMARY:Informal Hatchery Workgroup Meeting
DESCRIPTION: Within a week of the meeting, you should be able to view the agenda and how to participate. https://www.nwcouncil.org/meeting/informal-hatchery-workgroup-meeting-september-21-2021
X-ALT-DESC: Within a week of the meeting, you should be able to view the agenda and how to participate. <a href="https://www.nwcouncil.org/meeting/informal-hatchery-workgroup-meeting-september-21-2021">https://www.nwcouncil.org/meeting/informal-hatchery-workgroup-meeting-september-21-2021</a>
DTSTART:20210921T170000Z
DTEND:20210921T180000Z
LOCATION:Virtual Meeting
ORGANIZER:NW Council
DTSTAMP:20260420T004430.629395Z
UID:meeting-812
STATUS:CONFIRMED
END:VEVENT
END:VCALENDAR