BEGIN:VCALENDAR
METHOD:PUBLISH
VERSION:2.0
PRODID:-//NW Council//Meetings//EN
BEGIN:VEVENT
SUMMARY:Natural Gas Advisory Comm - Webinar on Methane and Power Plan
DESCRIPTION: Within a week of the meeting, you should be able to view the agenda and how to participate. https://www.nwcouncil.org/meeting/natural-gas-advisory-comm-webinar-methane-and-power-plan-april-9-2020
X-ALT-DESC: Within a week of the meeting, you should be able to view the agenda and how to participate. <a href="https://www.nwcouncil.org/meeting/natural-gas-advisory-comm-webinar-methane-and-power-plan-april-9-2020">https://www.nwcouncil.org/meeting/natural-gas-advisory-comm-webinar-methane-and-power-plan-april-9-2020</a>
DTSTART:20200409T170000Z
DTEND:20200409T180000Z
LOCATION:Webinar
ORGANIZER:NW Council
DTSTAMP:20260421T030950.443349Z
UID:meeting-724
STATUS:CONFIRMED
END:VEVENT
END:VCALENDAR