BEGIN:VCALENDAR
METHOD:PUBLISH
VERSION:2.0
PRODID:-//NW Council//Meetings//EN
BEGIN:VEVENT
SUMMARY:Natural Gas Advisory Committee
DESCRIPTION: Within a week of the meeting, you should be able to view the agenda and how to participate. https://www.nwcouncil.org/meeting/natural-gas-advisory-committee-june-16-2011
X-ALT-DESC: Within a week of the meeting, you should be able to view the agenda and how to participate. <a href="https://www.nwcouncil.org/meeting/natural-gas-advisory-committee-june-16-2011">https://www.nwcouncil.org/meeting/natural-gas-advisory-committee-june-16-2011</a>
DTSTART;VALUE=DATE:20110616
DTEND;VALUE=DATE:20110616
LOCATION:Webinar
ORGANIZER:NW Council
DTSTAMP:20260422T012432.287735Z
UID:meeting-425
STATUS:CONFIRMED
END:VEVENT
END:VCALENDAR