BEGIN:VCALENDAR
METHOD:PUBLISH
VERSION:2.0
PRODID:-//NW Council//Meetings//EN
BEGIN:VEVENT
SUMMARY:Ocean and Plume Science and Management Forum
DESCRIPTION: Within a week of the meeting, you should be able to view the agenda and how to participate. https://www.nwcouncil.org/meeting/ocean-forum-january-19-2022
X-ALT-DESC: Within a week of the meeting, you should be able to view the agenda and how to participate. <a href="https://www.nwcouncil.org/meeting/ocean-forum-january-19-2022">https://www.nwcouncil.org/meeting/ocean-forum-january-19-2022</a>
DTSTART:20220119T210000Z
DTEND:20220120T010000Z
LOCATION:Virtual Meeting
ORGANIZER:NW Council
DTSTAMP:20260422T011947.486930Z
UID:meeting-817
STATUS:CONFIRMED
END:VEVENT
END:VCALENDAR