BEGIN:VCALENDAR
METHOD:PUBLISH
VERSION:2.0
PRODID:-//NW Council//Meetings//EN
BEGIN:VEVENT
SUMMARY:O&M Subcommittee Meeting
DESCRIPTION: Within a week of the meeting, you should be able to view the agenda and how to participate. https://www.nwcouncil.org/meeting/om-subcommittee-meeting-april-10-2017
X-ALT-DESC: Within a week of the meeting, you should be able to view the agenda and how to participate. <a href="https://www.nwcouncil.org/meeting/om-subcommittee-meeting-april-10-2017">https://www.nwcouncil.org/meeting/om-subcommittee-meeting-april-10-2017</a>
DTSTART;VALUE=DATE:20170410
DTEND;VALUE=DATE:20170410
LOCATION:Doubletree by Hilton Missoula Edgewater 100 Madison Street, Missoula,  MT
ORGANIZER:NW Council
DTSTAMP:20260419T053653.997392Z
UID:meeting-15
STATUS:CONFIRMED
END:VEVENT
END:VCALENDAR