BEGIN:VCALENDAR
METHOD:PUBLISH
VERSION:2.0
PRODID:-//NW Council//Meetings//EN
BEGIN:VEVENT
SUMMARY:Pacific Northwest Demand Response Project
DESCRIPTION: Within a week of the meeting, you should be able to view the agenda and how to participate. https://www.nwcouncil.org/meeting/pacific-northwest-demand-response-project-april-28-2011
X-ALT-DESC: Within a week of the meeting, you should be able to view the agenda and how to participate. <a href="https://www.nwcouncil.org/meeting/pacific-northwest-demand-response-project-april-28-2011">https://www.nwcouncil.org/meeting/pacific-northwest-demand-response-project-april-28-2011</a>
DTSTART;VALUE=DATE:20110428
DTEND;VALUE=DATE:20110428
LOCATION:Webinar
ORGANIZER:NW Council
DTSTAMP:20260422T024923.073899Z
UID:meeting-558
STATUS:CONFIRMED
END:VEVENT
END:VCALENDAR