BEGIN:VCALENDAR
METHOD:PUBLISH
VERSION:2.0
PRODID:-//NW Council//Meetings//EN
BEGIN:VEVENT
SUMMARY:Pacific Northwest Demand Response Project Cost Effectiveness Subgroup
DESCRIPTION: Within a week of the meeting, you should be able to view the agenda and how to participate. https://www.nwcouncil.org/meeting/pacific-northwest-demand-response-project-cost-effectiveness-subgroup-september-12-2008
X-ALT-DESC: Within a week of the meeting, you should be able to view the agenda and how to participate. <a href="https://www.nwcouncil.org/meeting/pacific-northwest-demand-response-project-cost-effectiveness-subgroup-september-12-2008">https://www.nwcouncil.org/meeting/pacific-northwest-demand-response-project-cost-effectiveness-subgroup-september-12-2008</a>
DTSTART;VALUE=DATE:20080912
DTEND;VALUE=DATE:20080912
LOCATION:Webinar
ORGANIZER:NW Council
DTSTAMP:20260422T024125.446356Z
UID:meeting-401
STATUS:CONFIRMED
END:VEVENT
END:VCALENDAR