BEGIN:VCALENDAR
METHOD:PUBLISH
VERSION:2.0
PRODID:-//NW Council//Meetings//EN
BEGIN:VEVENT
SUMMARY:Pacific Northwest Demand Response Project
DESCRIPTION: Within a week of the meeting, you should be able to view the agenda and how to participate. https://www.nwcouncil.org/meeting/pacific-northwest-demand-response-project-february-14-2013
X-ALT-DESC: Within a week of the meeting, you should be able to view the agenda and how to participate. <a href="https://www.nwcouncil.org/meeting/pacific-northwest-demand-response-project-february-14-2013">https://www.nwcouncil.org/meeting/pacific-northwest-demand-response-project-february-14-2013</a>
DTSTART;VALUE=DATE:20130214
DTEND;VALUE=DATE:20130214
LOCATION:Webinar
ORGANIZER:NW Council
DTSTAMP:20260422T024708.622859Z
UID:meeting-560
STATUS:CONFIRMED
END:VEVENT
END:VCALENDAR