BEGIN:VCALENDAR
METHOD:PUBLISH
VERSION:2.0
PRODID:-//NW Council//Meetings//EN
BEGIN:VEVENT
SUMMARY:Pacific Northwest Demand Response Project Meeting
DESCRIPTION: Within a week of the meeting, you should be able to view the agenda and how to participate. https://www.nwcouncil.org/meeting/pacific-northwest-demand-response-project-meeting-january-23-2014
X-ALT-DESC: Within a week of the meeting, you should be able to view the agenda and how to participate. <a href="https://www.nwcouncil.org/meeting/pacific-northwest-demand-response-project-meeting-january-23-2014">https://www.nwcouncil.org/meeting/pacific-northwest-demand-response-project-meeting-january-23-2014</a>
DTSTART;VALUE=DATE:20140123
DTEND;VALUE=DATE:20140123
LOCATION:Northwest Power and Conservation Council Offices, Portland
ORGANIZER:NW Council
DTSTAMP:20260421T083414.519538Z
UID:meeting-553
STATUS:CONFIRMED
END:VEVENT
END:VCALENDAR