BEGIN:VCALENDAR
METHOD:PUBLISH
VERSION:2.0
PRODID:-//NW Council//Meetings//EN
BEGIN:VEVENT
SUMMARY:Program Goals and Objectives Workshop
DESCRIPTION: Within a week of the meeting, you should be able to view the agenda and how to participate. https://www.nwcouncil.org/meeting/program-goals-and-objectives-workshop-january-8-2020
X-ALT-DESC: Within a week of the meeting, you should be able to view the agenda and how to participate. <a href="https://www.nwcouncil.org/meeting/program-goals-and-objectives-workshop-january-8-2020">https://www.nwcouncil.org/meeting/program-goals-and-objectives-workshop-january-8-2020</a>
DTSTART:20200108T180000Z
DTEND:20200109T010000Z
LOCATION:Northwest Power and Conservation Council, Portland , OR
ORGANIZER:NW Council
DTSTAMP:20260421T025103.562191Z
UID:meeting-697
STATUS:CONFIRMED
END:VEVENT
END:VCALENDAR