BEGIN:VCALENDAR
METHOD:PUBLISH
VERSION:2.0
PRODID:-//NW Council//Meetings//EN
BEGIN:VEVENT
SUMMARY:Public Affairs Committee Meeting
DESCRIPTION: Within a week of the meeting, you should be able to view the agenda and how to participate. https://www.nwcouncil.org/meeting/public-affairs-committee-meeting-2026-03-23
X-ALT-DESC: Within a week of the meeting, you should be able to view the agenda and how to participate. <a href="https://www.nwcouncil.org/meeting/public-affairs-committee-meeting-2026-03-23">https://www.nwcouncil.org/meeting/public-affairs-committee-meeting-2026-03-23</a>
DTSTART:20260323T170000Z
DTEND:20260323T183000Z
LOCATION:Webinar
ORGANIZER:NW Council
DTSTAMP:20260421T235852.180236Z
UID:meeting-1913
STATUS:CONFIRMED
END:VEVENT
END:VCALENDAR