BEGIN:VCALENDAR
METHOD:PUBLISH
VERSION:2.0
PRODID:-//NW Council//Meetings//EN
BEGIN:VEVENT
SUMMARY:Public Affairs Committee Meeting
DESCRIPTION: Within a week of the meeting, you should be able to view the agenda and how to participate. https://www.nwcouncil.org/meeting/public-affairs-committee-meeting-2026-05-06
X-ALT-DESC: Within a week of the meeting, you should be able to view the agenda and how to participate. <a href="https://www.nwcouncil.org/meeting/public-affairs-committee-meeting-2026-05-06">https://www.nwcouncil.org/meeting/public-affairs-committee-meeting-2026-05-06</a>
DTSTART:20260506T170000Z
DTEND:20260506T180000Z
LOCATION:Webinar
ORGANIZER:NW Council
DTSTAMP:20260422T162342.159284Z
UID:meeting-1925
STATUS:CONFIRMED
END:VEVENT
END:VCALENDAR