BEGIN:VCALENDAR
METHOD:PUBLISH
VERSION:2.0
PRODID:-//NW Council//Meetings//EN
BEGIN:VEVENT
SUMMARY:Public hearing on Draft 2026 Columbia River Basin Fish and Wildlife Program (Yakima)
DESCRIPTION: Within a week of the meeting, you should be able to view the agenda and how to participate. https://www.nwcouncil.org/meeting/public-hearing-2026-02-04
X-ALT-DESC: Within a week of the meeting, you should be able to view the agenda and how to participate. <a href="https://www.nwcouncil.org/meeting/public-hearing-2026-02-04">https://www.nwcouncil.org/meeting/public-hearing-2026-02-04</a>
DTSTART:20260205T003000Z
DTEND:20260205T023000Z
LOCATION:Yakima Convention Center, Room B, Yakima, WA
ORGANIZER:NW Council
DTSTAMP:20260419T224632.130101Z
UID:meeting-1899
STATUS:CONFIRMED
END:VEVENT
END:VCALENDAR