BEGIN:VCALENDAR
METHOD:PUBLISH
VERSION:2.0
PRODID:-//NW Council//Meetings//EN
BEGIN:VEVENT
SUMMARY:Public hearing on Draft 2026 Columbia River Basin Fish and Wildlife Program (Seattle)
DESCRIPTION: Within a week of the meeting, you should be able to view the agenda and how to participate. https://www.nwcouncil.org/meeting/public-hearing-2026-02-17
X-ALT-DESC: Within a week of the meeting, you should be able to view the agenda and how to participate. <a href="https://www.nwcouncil.org/meeting/public-hearing-2026-02-17">https://www.nwcouncil.org/meeting/public-hearing-2026-02-17</a>
DTSTART:20260218T003000Z
DTEND:20260218T023000Z
LOCATION:Seattle University, Seattle, WA
ORGANIZER:NW Council
DTSTAMP:20260420T145602.295091Z
UID:meeting-1902
STATUS:CONFIRMED
END:VEVENT
END:VCALENDAR