BEGIN:VCALENDAR
METHOD:PUBLISH
VERSION:2.0
PRODID:-//NW Council//Meetings//EN
BEGIN:VEVENT
SUMMARY:Public hearing on Draft 2026 Columbia River Basin Fish and Wildlife Program
DESCRIPTION: Within a week of the meeting, you should be able to view the agenda and how to participate. https://www.nwcouncil.org/meeting/public-hearing-2026-02-24
X-ALT-DESC: Within a week of the meeting, you should be able to view the agenda and how to participate. <a href="https://www.nwcouncil.org/meeting/public-hearing-2026-02-24">https://www.nwcouncil.org/meeting/public-hearing-2026-02-24</a>
DTSTART:20260224T233000Z
DTEND:20260225T020000Z
LOCATION:Webinar
ORGANIZER:NW Council
DTSTAMP:20260420T145643.033463Z
UID:meeting-1903
STATUS:CONFIRMED
END:VEVENT
END:VCALENDAR