BEGIN:VCALENDAR
METHOD:PUBLISH
VERSION:2.0
PRODID:-//NW Council//Meetings//EN
BEGIN:VEVENT
SUMMARY:Public hearing on Draft 2026 Columbia River Basin Fish and Wildlife Program (Bend)
DESCRIPTION: Within a week of the meeting, you should be able to view the agenda and how to participate. https://www.nwcouncil.org/meeting/public-hearing-bend-2026-02-12
X-ALT-DESC: Within a week of the meeting, you should be able to view the agenda and how to participate. <a href="https://www.nwcouncil.org/meeting/public-hearing-bend-2026-02-12">https://www.nwcouncil.org/meeting/public-hearing-bend-2026-02-12</a>
DTSTART:20260213T000000Z
DTEND:20260213T020000Z
LOCATION:Oregon State University - Cascades, Bend, OR
ORGANIZER:NW Council
DTSTAMP:20260420T145711.037159Z
UID:meeting-1901
STATUS:CONFIRMED
END:VEVENT
END:VCALENDAR