BEGIN:VCALENDAR
METHOD:PUBLISH
VERSION:2.0
PRODID:-//NW Council//Meetings//EN
BEGIN:VEVENT
SUMMARY:Public hearing on Revised Draft Part I of the 2020 Addendum to the 2014 Fish and Wildlife Program
DESCRIPTION: Within a week of the meeting, you should be able to view the agenda and how to participate. https://www.nwcouncil.org/meeting/public-hearing-june-15-2020
X-ALT-DESC: Within a week of the meeting, you should be able to view the agenda and how to participate. <a href="https://www.nwcouncil.org/meeting/public-hearing-june-15-2020">https://www.nwcouncil.org/meeting/public-hearing-june-15-2020</a>
DTSTART:20200615T223000Z
DTEND:20200616T003000Z
LOCATION:Webinar
ORGANIZER:NW Council
DTSTAMP:20260423T183656.633249Z
UID:meeting-730
STATUS:CONFIRMED
END:VEVENT
END:VCALENDAR