BEGIN:VCALENDAR
METHOD:PUBLISH
VERSION:2.0
PRODID:-//NW Council//Meetings//EN
BEGIN:VEVENT
SUMMARY:Public hearing on Draft 2026 Columbia River Basin Fish and Wildlife Program (Kalispell)
DESCRIPTION: Within a week of the meeting, you should be able to view the agenda and how to participate. https://www.nwcouncil.org/meeting/public-hearing-kalispell-2026-01-29
X-ALT-DESC: Within a week of the meeting, you should be able to view the agenda and how to participate. <a href="https://www.nwcouncil.org/meeting/public-hearing-kalispell-2026-01-29">https://www.nwcouncil.org/meeting/public-hearing-kalispell-2026-01-29</a>
DTSTART:20260130T000000Z
DTEND:20260130T020000Z
LOCATION:Kalispell Red Lion, Kalispell, MT
ORGANIZER:NW Council
DTSTAMP:20260423T170634.615740Z
UID:meeting-1897
STATUS:CONFIRMED
END:VEVENT
END:VCALENDAR