BEGIN:VCALENDAR
METHOD:PUBLISH
VERSION:2.0
PRODID:-//NW Council//Meetings//EN
BEGIN:VEVENT
SUMMARY:RAAC Technical Committee WEBINAR
DESCRIPTION: Within a week of the meeting, you should be able to view the agenda and how to participate. https://www.nwcouncil.org/meeting/raac-technical-committee-webinar-july-26-2016
X-ALT-DESC: Within a week of the meeting, you should be able to view the agenda and how to participate. <a href="https://www.nwcouncil.org/meeting/raac-technical-committee-webinar-july-26-2016">https://www.nwcouncil.org/meeting/raac-technical-committee-webinar-july-26-2016</a>
DTSTART;VALUE=DATE:20160726
DTEND;VALUE=DATE:20160726
LOCATION:Webinar
ORGANIZER:NW Council
DTSTAMP:20260421T025603.008906Z
UID:meeting-522
STATUS:CONFIRMED
END:VEVENT
END:VCALENDAR