BEGIN:VCALENDAR
METHOD:PUBLISH
VERSION:2.0
PRODID:-//NW Council//Meetings//EN
BEGIN:VEVENT
SUMMARY:Regional Coordination Forum
DESCRIPTION: Within a week of the meeting, you should be able to view the agenda and how to participate. https://www.nwcouncil.org/meeting/regional-coordination-forum-may-15-2017
X-ALT-DESC: Within a week of the meeting, you should be able to view the agenda and how to participate. <a href="https://www.nwcouncil.org/meeting/regional-coordination-forum-may-15-2017">https://www.nwcouncil.org/meeting/regional-coordination-forum-may-15-2017</a>
DTSTART;VALUE=DATE:20170515
DTEND;VALUE=DATE:20170515
LOCATION:Hampton Inn & Suites 495 S. Capitol Blvd., Boise,  ID
ORGANIZER:NW Council
DTSTAMP:20260421T025906.619531Z
UID:meeting-23
STATUS:CONFIRMED
END:VEVENT
END:VCALENDAR