BEGIN:VCALENDAR
METHOD:PUBLISH
VERSION:2.0
PRODID:-//NW Council//Meetings//EN
BEGIN:VEVENT
SUMMARY:Regional Coordination Forum
DESCRIPTION: Within a week of the meeting, you should be able to view the agenda and how to participate. https://www.nwcouncil.org/meeting/regional-coordination-forum-meeting-june-11-2018
X-ALT-DESC: Within a week of the meeting, you should be able to view the agenda and how to participate. <a href="https://www.nwcouncil.org/meeting/regional-coordination-forum-meeting-june-11-2018">https://www.nwcouncil.org/meeting/regional-coordination-forum-meeting-june-11-2018</a>
DTSTART;VALUE=DATE:20180611
DTEND;VALUE=DATE:20180612
LOCATION:851 SW 6th Ave., Suite 1100, Portland,  OR
ORGANIZER:NW Council
DTSTAMP:20260420T001645.938848Z
UID:meeting-572
STATUS:CONFIRMED
END:VEVENT
END:VCALENDAR