BEGIN:VCALENDAR
METHOD:PUBLISH
VERSION:2.0
PRODID:-//NW Council//Meetings//EN
BEGIN:VEVENT
SUMMARY:Regional Coordination Forum (RCF) Meeting
DESCRIPTION: Within a week of the meeting, you should be able to view the agenda and how to participate. https://www.nwcouncil.org/meeting/regional-coordination-forum-rcf-meeting-2023-04-10
X-ALT-DESC: Within a week of the meeting, you should be able to view the agenda and how to participate. <a href="https://www.nwcouncil.org/meeting/regional-coordination-forum-rcf-meeting-2023-04-10">https://www.nwcouncil.org/meeting/regional-coordination-forum-rcf-meeting-2023-04-10</a>
DTSTART:20230410T200000Z
DTEND:20230410T230000Z
LOCATION:Northwest Power and Conservation Council and Virtual, Portland, OR
ORGANIZER:NW Council
DTSTAMP:20260420T020638.500272Z
UID:meeting-1653
STATUS:CONFIRMED
END:VEVENT
END:VCALENDAR