BEGIN:VCALENDAR
METHOD:PUBLISH
VERSION:2.0
PRODID:-//NW Council//Meetings//EN
BEGIN:VEVENT
SUMMARY:Regional Coordination Forum (RCF) Meeting
DESCRIPTION: Within a week of the meeting, you should be able to view the agenda and how to participate. https://www.nwcouncil.org/meeting/regional-coordination-forum-rcf-meeting-2023-05-23
X-ALT-DESC: Within a week of the meeting, you should be able to view the agenda and how to participate. <a href="https://www.nwcouncil.org/meeting/regional-coordination-forum-rcf-meeting-2023-05-23">https://www.nwcouncil.org/meeting/regional-coordination-forum-rcf-meeting-2023-05-23</a>
DTSTART:20230523T170000Z
DTEND:20230523T190000Z
LOCATION:Virtual Meeting
ORGANIZER:NW Council
DTSTAMP:20260421T030926.323221Z
UID:meeting-1661
STATUS:CONFIRMED
END:VEVENT
END:VCALENDAR