BEGIN:VCALENDAR
METHOD:PUBLISH
VERSION:2.0
PRODID:-//NW Council//Meetings//EN
BEGIN:VEVENT
SUMMARY:Regional Coordination Forum (RCF) Meeting
DESCRIPTION: Within a week of the meeting, you should be able to view the agenda and how to participate. https://www.nwcouncil.org/meeting/regional-coordination-forum-rcf-meeting-2024-07-11
X-ALT-DESC: Within a week of the meeting, you should be able to view the agenda and how to participate. <a href="https://www.nwcouncil.org/meeting/regional-coordination-forum-rcf-meeting-2024-07-11">https://www.nwcouncil.org/meeting/regional-coordination-forum-rcf-meeting-2024-07-11</a>
DTSTART:20240711T160000Z
DTEND:20240711T220000Z
LOCATION:Webinar
ORGANIZER:NW Council
DTSTAMP:20260421T014407.991257Z
UID:meeting-1731
STATUS:CONFIRMED
END:VEVENT
END:VCALENDAR