BEGIN:VCALENDAR
METHOD:PUBLISH
VERSION:2.0
PRODID:-//NW Council//Meetings//EN
BEGIN:VEVENT
SUMMARY:Regional Coordination Forum
DESCRIPTION: Within a week of the meeting, you should be able to view the agenda and how to participate. https://www.nwcouncil.org/meeting/regional-coordination-forum-september-11-2017
X-ALT-DESC: Within a week of the meeting, you should be able to view the agenda and how to participate. <a href="https://www.nwcouncil.org/meeting/regional-coordination-forum-september-11-2017">https://www.nwcouncil.org/meeting/regional-coordination-forum-september-11-2017</a>
DTSTART;VALUE=DATE:20170911
DTEND;VALUE=DATE:20170911
LOCATION:The Davenport Hotel 10 South Post Street, Spokane,  WA
ORGANIZER:NW Council
DTSTAMP:20260423T180228.740242Z
UID:meeting-8
STATUS:CONFIRMED
END:VEVENT
END:VCALENDAR