BEGIN:VCALENDAR
METHOD:PUBLISH
VERSION:2.0
PRODID:-//NW Council//Meetings//EN
BEGIN:VEVENT
SUMMARY:Resource Adequacy Advisory Technical Committee
DESCRIPTION: Within a week of the meeting, you should be able to view the agenda and how to participate. https://www.nwcouncil.org/meeting/resource-adequacy-advisory-technical-committee-october-9-2014
X-ALT-DESC: Within a week of the meeting, you should be able to view the agenda and how to participate. <a href="https://www.nwcouncil.org/meeting/resource-adequacy-advisory-technical-committee-october-9-2014">https://www.nwcouncil.org/meeting/resource-adequacy-advisory-technical-committee-october-9-2014</a>
DTSTART;VALUE=DATE:20141009
DTEND;VALUE=DATE:20141009
LOCATION:851 SW Sixth Ave Suite 1100, Portland,  OR
ORGANIZER:NW Council
DTSTAMP:20260424T130428.248370Z
UID:meeting-228
STATUS:CONFIRMED
END:VEVENT
END:VCALENDAR