BEGIN:VCALENDAR
METHOD:PUBLISH
VERSION:2.0
PRODID:-//NW Council//Meetings//EN
BEGIN:VEVENT
SUMMARY:Resource Adequacy and System Analysis Advisory Committees Combined Meeting
DESCRIPTION: Within a week of the meeting, you should be able to view the agenda and how to participate. https://www.nwcouncil.org/meeting/resource-adequacy-and-system-analysis-advisory-committees-combined-meeting-2025-02-27
X-ALT-DESC: Within a week of the meeting, you should be able to view the agenda and how to participate. <a href="https://www.nwcouncil.org/meeting/resource-adequacy-and-system-analysis-advisory-committees-combined-meeting-2025-02-27">https://www.nwcouncil.org/meeting/resource-adequacy-and-system-analysis-advisory-committees-combined-meeting-2025-02-27</a>
DTSTART:20250227T210000Z
DTEND:20250228T000000Z
LOCATION:Webinar
ORGANIZER:NW Council
DTSTAMP:20260422T013023.423677Z
UID:meeting-1816
STATUS:CONFIRMED
END:VEVENT
END:VCALENDAR