BEGIN:VCALENDAR
METHOD:PUBLISH
VERSION:2.0
PRODID:-//NW Council//Meetings//EN
BEGIN:VEVENT
SUMMARY:Resource Cost Framework in Power Plan Webinar
DESCRIPTION: Within a week of the meeting, you should be able to view the agenda and how to participate. https://www.nwcouncil.org/meeting/resource-cost-framework-in-power-plan-webinar-2024-11-21
X-ALT-DESC: Within a week of the meeting, you should be able to view the agenda and how to participate. <a href="https://www.nwcouncil.org/meeting/resource-cost-framework-in-power-plan-webinar-2024-11-21">https://www.nwcouncil.org/meeting/resource-cost-framework-in-power-plan-webinar-2024-11-21</a>
DTSTART:20241121T210000Z
DTEND:20241121T220000Z
LOCATION:Webinar
ORGANIZER:NW Council
DTSTAMP:20260419T084441.919965Z
UID:meeting-1804
STATUS:CONFIRMED
END:VEVENT
END:VCALENDAR