BEGIN:VCALENDAR
METHOD:PUBLISH
VERSION:2.0
PRODID:-//NW Council//Meetings//EN
BEGIN:VEVENT
SUMMARY:Resource Strategies Advisory Committee
DESCRIPTION: Within a week of the meeting, you should be able to view the agenda and how to participate. https://www.nwcouncil.org/meeting/resource-strategies-advisory-committee-january-15-2014
X-ALT-DESC: Within a week of the meeting, you should be able to view the agenda and how to participate. <a href="https://www.nwcouncil.org/meeting/resource-strategies-advisory-committee-january-15-2014">https://www.nwcouncil.org/meeting/resource-strategies-advisory-committee-january-15-2014</a>
DTSTART;VALUE=DATE:20140115
DTEND;VALUE=DATE:20140115
LOCATION:Hilton Hotel, 921 SW 6th Ave Grand Ballroom II, Portland
ORGANIZER:NW Council
DTSTAMP:20260421T060840.159753Z
UID:meeting-359
STATUS:CONFIRMED
END:VEVENT
END:VCALENDAR